0.1
0
0
-0.1
610943.476040641
4671506.96779894
