0.1
0
0
-0.1
611803.69183241
4671520.61700885
