0.1
0
0
-0.1
612663.907422268
4671534.47832409
