0.1
0
0
-0.1
613533.475957429
4670970.06616919
