0.1
0
0
-0.1
599579.680706107
4684061.41166025
