0.1
0
0
-0.1
600446.638655717
4683495.31808867
