0.1
0
0
-0.1
603864.306671128
4684702.13305562
