0.1
0
0
-0.1
603022.77972473
4683532.94917964
