0.1
0
0
-0.1
603881.49534635
4683545.56040702
