0.1
0
0
-0.1
604714.219455839
4685293.23964183
