0.1
0
0
-0.1
605581.465219005
4684727.97944414
