0.1
0
0
-0.1
600454.947765713
4682917.03327294
