0.1
0
0
-0.1
602197.86325577
4681207.18552332
