0.1
0
0
-0.1
603056.861543374
4681219.79136851
