0.1
0
0
-0.1
606492.882767615
4681271.26052724
