0.1
0
0
-0.1
603073.895773323
4680063.22137828
