0.1
0
0
-0.1
606501.683254616
4680692.97433048
