0.1
0
0
-0.1
605651.334388279
4680101.66323774
