0.1
0
0
-0.1
607369.63009488
4680127.71852679
