0.1
0
0
-0.1
608228.780679035
4680140.95153438
