0.1
0
0
-0.1
609087.933051411
4680154.39046347
