0.1
0
0
-0.1
603958.802391398
4678340.97606589
