0.5
0
0
-0.5
590881.13487483
4692087.00760813
