0.5
0
0
-0.5
611766.166474373
4673884.43011406
