0.1
0
0
-0.1
600632.082988346
4729772.25221421
