0.1
0
0
-0.1
598105.923461933
4727422.05652076
