0.1
0
0
-0.1
603217.143347224
4728075.14639221
