0.1
0
0
-0.1
601519.176923889
4727471.54216046
