0.1
0
0
-0.1
596407.3825093
4726819.50645596
