0.1
0
0
-0.1
595570.019745265
4725651.05202825
