0.1
0
0
-0.1
599829.288593787
4726289.82888322
