0.1
0
0
-0.1
599846.02649968
4725133.17943748
