0.1
0
0
-0.1
600674.30507555
4726880.57861655
