0.1
0
0
-0.1
601527.692010355
4726893.2121301
