0.1
0
0
-0.1
600699.629136421
4725145.60673176
