0.1
0
0
-0.1
602406.837412846
4725170.87083119
