0.1
0
0
-0.1
605812.376810222
4725800.78766028
