0.1
0
0
-0.1
594748.267089291
4723325.95978408
