0.1
0
0
-0.1
596463.97679242
4722771.22210402
