0.1
0
0
-0.1
599009.027450872
4723964.30567467
