0.1
0
0
-0.1
599025.630307159
4722807.65155819
