0.1
0
0
-0.1
600708.070595134
4724567.279355
