0.1
0
0
-0.1
600716.513639581
4723988.94976367
