0.1
0
0
-0.1
602424.006335027
4724014.21936537
