0.1
0
0
-0.1
604122.773277423
4724618.02363884
