0.1
0
0
-0.1
596480.144303133
4721614.58180107
