0.1
0
0
-0.1
599887.886454426
4722241.53971991
