0.1
0
0
-0.1
599050.522598001
4721072.68561719
