0.1
0
0
-0.1
597350.478442345
4720469.9397256
