0.1
0
0
-0.1
603312.367606338
4721713.55684778
